BEGIN:VCALENDAR
VERSION:2.0
PRODID:-//Kelly Anderson Group - ECPv6.15.20//NONSGML v1.0//EN
CALSCALE:GREGORIAN
METHOD:PUBLISH
X-WR-CALNAME:Kelly Anderson Group
X-ORIGINAL-URL:https://www.kellyandersongroup.com
X-WR-CALDESC:Events for Kelly Anderson Group
REFRESH-INTERVAL;VALUE=DURATION:PT1H
X-Robots-Tag:noindex
X-PUBLISHED-TTL:PT1H
BEGIN:VTIMEZONE
TZID:America/Chicago
BEGIN:DAYLIGHT
TZOFFSETFROM:-0600
TZOFFSETTO:-0500
TZNAME:CDT
DTSTART:20210314T080000
END:DAYLIGHT
BEGIN:STANDARD
TZOFFSETFROM:-0500
TZOFFSETTO:-0600
TZNAME:CST
DTSTART:20211107T070000
END:STANDARD
BEGIN:DAYLIGHT
TZOFFSETFROM:-0600
TZOFFSETTO:-0500
TZNAME:CDT
DTSTART:20220313T080000
END:DAYLIGHT
BEGIN:STANDARD
TZOFFSETFROM:-0500
TZOFFSETTO:-0600
TZNAME:CST
DTSTART:20221106T070000
END:STANDARD
BEGIN:DAYLIGHT
TZOFFSETFROM:-0600
TZOFFSETTO:-0500
TZNAME:CDT
DTSTART:20230312T080000
END:DAYLIGHT
BEGIN:STANDARD
TZOFFSETFROM:-0500
TZOFFSETTO:-0600
TZNAME:CST
DTSTART:20231105T070000
END:STANDARD
END:VTIMEZONE
BEGIN:VEVENT
DTSTART;TZID=America/Chicago:20220926T090000
DTEND;TZID=America/Chicago:20220930T170000
DTSTAMP:20260420T081649
CREATED:20220425T220032Z
LAST-MODIFIED:20220926T180138Z
UID:10000202-1664182800-1664557200@www.kellyandersongroup.com
SUMMARY:Safety Trainer Courtyard Anaheim Buena Park 7621 Beach Blvd Buena Park\, CA 90620
DESCRIPTION:Courtyard Anaheim Buena Park 7621 Beach Blvd Buena Park\, CA 90620
URL:https://www.kellyandersongroup.com/event/safety-trainer-anaheim-ca-5/
LOCATION:Courtyard by Marriott Anaheim Buena Park\, 7621 Beach Blvd\, Buena Park\, CA 90620\, 7621 Beach Blvd\, Anaheim\, CA\, 90620\, United States
ORGANIZER;CN="Denice Woods":MAILTO:denice@kellyandersongroup.com
GEO:33.85272;-117.99916
X-APPLE-STRUCTURED-LOCATION;VALUE=URI;X-ADDRESS=Courtyard by Marriott Anaheim Buena Park 7621 Beach Blvd Buena Park CA 90620 7621 Beach Blvd Anaheim CA 90620 United States;X-APPLE-RADIUS=500;X-TITLE=7621 Beach Blvd:geo:-117.99916,33.85272
END:VEVENT
BEGIN:VEVENT
DTSTART;TZID=America/Chicago:20220718T090000
DTEND;TZID=America/Chicago:20220722T170000
DTSTAMP:20260420T081649
CREATED:20220425T194010Z
LAST-MODIFIED:20220718T154738Z
UID:10000168-1658134800-1658509200@www.kellyandersongroup.com
SUMMARY:Safety Trainer Anaheim\, CA
DESCRIPTION:Anaheim\, CA
URL:https://www.kellyandersongroup.com/event/safety-trainer-anaheim-ca-2/
LOCATION:Courtyard by Marriott Anaheim Buena Park\, 7621 Beach Blvd\, Buena Park\, CA 90620\, 7621 Beach Blvd\, Anaheim\, CA\, 90620\, United States
ORGANIZER;CN="Denice Woods":MAILTO:denice@kellyandersongroup.com
GEO:33.85272;-117.99916
X-APPLE-STRUCTURED-LOCATION;VALUE=URI;X-ADDRESS=Courtyard by Marriott Anaheim Buena Park 7621 Beach Blvd Buena Park CA 90620 7621 Beach Blvd Anaheim CA 90620 United States;X-APPLE-RADIUS=500;X-TITLE=7621 Beach Blvd:geo:-117.99916,33.85272
END:VEVENT
BEGIN:VEVENT
DTSTART;TZID=America/Chicago:20220711T090000
DTEND;TZID=America/Chicago:20220715T170000
DTSTAMP:20260420T081649
CREATED:20220425T193845Z
LAST-MODIFIED:20220708T162506Z
UID:10000167-1657530000-1657904400@www.kellyandersongroup.com
SUMMARY:Safety Trainer Anaheim\, CA
DESCRIPTION:Anaheim\, CA
URL:https://www.kellyandersongroup.com/event/safety-trainer-anaheim-ca/
LOCATION:Courtyard by Marriott Anaheim Buena Park\, 7621 Beach Blvd\, Buena Park\, CA 90620\, 7621 Beach Blvd\, Anaheim\, CA\, 90620\, United States
ORGANIZER;CN="Denice Woods":MAILTO:denice@kellyandersongroup.com
GEO:33.85272;-117.99916
X-APPLE-STRUCTURED-LOCATION;VALUE=URI;X-ADDRESS=Courtyard by Marriott Anaheim Buena Park 7621 Beach Blvd Buena Park CA 90620 7621 Beach Blvd Anaheim CA 90620 United States;X-APPLE-RADIUS=500;X-TITLE=7621 Beach Blvd:geo:-117.99916,33.85272
END:VEVENT
END:VCALENDAR