BEGIN:VCALENDAR
VERSION:2.0
PRODID:-//Kelly Anderson Group - ECPv6.15.20//NONSGML v1.0//EN
CALSCALE:GREGORIAN
METHOD:PUBLISH
X-ORIGINAL-URL:https://www.kellyandersongroup.com
X-WR-CALDESC:Events for Kelly Anderson Group
REFRESH-INTERVAL;VALUE=DURATION:PT1H
X-Robots-Tag:noindex
X-PUBLISHED-TTL:PT1H
BEGIN:VTIMEZONE
TZID:America/Chicago
BEGIN:DAYLIGHT
TZOFFSETFROM:-0600
TZOFFSETTO:-0500
TZNAME:CDT
DTSTART:20210314T080000
END:DAYLIGHT
BEGIN:STANDARD
TZOFFSETFROM:-0500
TZOFFSETTO:-0600
TZNAME:CST
DTSTART:20211107T070000
END:STANDARD
BEGIN:DAYLIGHT
TZOFFSETFROM:-0600
TZOFFSETTO:-0500
TZNAME:CDT
DTSTART:20220313T080000
END:DAYLIGHT
BEGIN:STANDARD
TZOFFSETFROM:-0500
TZOFFSETTO:-0600
TZNAME:CST
DTSTART:20221106T070000
END:STANDARD
BEGIN:DAYLIGHT
TZOFFSETFROM:-0600
TZOFFSETTO:-0500
TZNAME:CDT
DTSTART:20230312T080000
END:DAYLIGHT
BEGIN:STANDARD
TZOFFSETFROM:-0500
TZOFFSETTO:-0600
TZNAME:CST
DTSTART:20231105T070000
END:STANDARD
END:VTIMEZONE
BEGIN:VEVENT
DTSTART;TZID=America/Chicago:20220606T090000
DTEND;TZID=America/Chicago:20220610T170000
DTSTAMP:20260420T053210
CREATED:20220311T185426Z
LAST-MODIFIED:20220514T010101Z
UID:10000146-1654506000-1654880400@www.kellyandersongroup.com
SUMMARY:Safety Trainer June 6th Trainers - San Jose
DESCRIPTION:Sonesta Select San Jose Airport
URL:https://www.kellyandersongroup.com/event/safety-trainer-june-6th-trainers-dallas/
LOCATION:Sonesta Select San Jose Airport\,1727 Technology Dr\, San Jose\, CA 95110\, 1727 Technology Dr\, San Jose\, CA\, 95110\, United States
CATEGORIES:Trainers
ORGANIZER;CN="Denice Woods":MAILTO:denice@kellyandersongroup.com
GEO:37.3655127;-121.9184659
X-APPLE-STRUCTURED-LOCATION;VALUE=URI;X-ADDRESS=Sonesta Select San Jose Airport1727 Technology Dr San Jose CA 95110 1727 Technology Dr San Jose CA 95110 United States;X-APPLE-RADIUS=500;X-TITLE=1727 Technology Dr:geo:-121.9184659,37.3655127
END:VEVENT
END:VCALENDAR