BEGIN:VCALENDAR
VERSION:2.0
PRODID:-//Kelly Anderson Group - ECPv6.15.20//NONSGML v1.0//EN
CALSCALE:GREGORIAN
METHOD:PUBLISH
X-ORIGINAL-URL:https://www.kellyandersongroup.com
X-WR-CALDESC:Events for Kelly Anderson Group
REFRESH-INTERVAL;VALUE=DURATION:PT1H
X-Robots-Tag:noindex
X-PUBLISHED-TTL:PT1H
BEGIN:VTIMEZONE
TZID:America/Chicago
BEGIN:DAYLIGHT
TZOFFSETFROM:-0600
TZOFFSETTO:-0500
TZNAME:CDT
DTSTART:20210314T080000
END:DAYLIGHT
BEGIN:STANDARD
TZOFFSETFROM:-0500
TZOFFSETTO:-0600
TZNAME:CST
DTSTART:20211107T070000
END:STANDARD
BEGIN:DAYLIGHT
TZOFFSETFROM:-0600
TZOFFSETTO:-0500
TZNAME:CDT
DTSTART:20220313T080000
END:DAYLIGHT
BEGIN:STANDARD
TZOFFSETFROM:-0500
TZOFFSETTO:-0600
TZNAME:CST
DTSTART:20221106T070000
END:STANDARD
BEGIN:DAYLIGHT
TZOFFSETFROM:-0600
TZOFFSETTO:-0500
TZNAME:CDT
DTSTART:20230312T080000
END:DAYLIGHT
BEGIN:STANDARD
TZOFFSETFROM:-0500
TZOFFSETTO:-0600
TZNAME:CST
DTSTART:20231105T070000
END:STANDARD
END:VTIMEZONE
BEGIN:VEVENT
DTSTART;TZID=America/Chicago:20220523T090000
DTEND;TZID=America/Chicago:20220527T170000
DTSTAMP:20260420T064940
CREATED:20220311T180405Z
LAST-MODIFIED:20220420T202628Z
UID:10000142-1653296400-1653670800@www.kellyandersongroup.com
SUMMARY:Safety Trainer May 23rd Trainers - Neosho
DESCRIPTION:
URL:https://www.kellyandersongroup.com/event/safety-trainer-may-23rd-trainers-neosho/
LOCATION:Neosho Office 2355 Lusk Dr\, Neosho MO 64850\, 2355 Lusk Dr\, Neosho\, MO\, 64850\, United States
CATEGORIES:Trainers
ORGANIZER;CN="Denice Woods":MAILTO:denice@kellyandersongroup.com
GEO:36.84582;-94.39167
X-APPLE-STRUCTURED-LOCATION;VALUE=URI;X-ADDRESS=Neosho Office 2355 Lusk Dr Neosho MO 64850 2355 Lusk Dr Neosho MO 64850 United States;X-APPLE-RADIUS=500;X-TITLE=2355 Lusk Dr:geo:-94.39167,36.84582
END:VEVENT
BEGIN:VEVENT
DTSTART;TZID=America/Chicago:20220613T090000
DTEND;TZID=America/Chicago:20220617T170000
DTSTAMP:20260420T064940
CREATED:20220311T185426Z
LAST-MODIFIED:20220420T202629Z
UID:10000147-1655110800-1655485200@www.kellyandersongroup.com
SUMMARY:Safety Trainer June 13th Trainers - Neosho
DESCRIPTION:
URL:https://www.kellyandersongroup.com/event/safety-trainer-june-13th-trainers-neosho/
LOCATION:Neosho Office 2355 Lusk Dr\, Neosho MO 64850\, 2355 Lusk Dr\, Neosho\, MO\, 64850\, United States
CATEGORIES:Trainers
ORGANIZER;CN="Denice Woods":MAILTO:denice@kellyandersongroup.com
GEO:36.84582;-94.39167
X-APPLE-STRUCTURED-LOCATION;VALUE=URI;X-ADDRESS=Neosho Office 2355 Lusk Dr Neosho MO 64850 2355 Lusk Dr Neosho MO 64850 United States;X-APPLE-RADIUS=500;X-TITLE=2355 Lusk Dr:geo:-94.39167,36.84582
END:VEVENT
BEGIN:VEVENT
DTSTART;TZID=America/Chicago:20220620T090000
DTEND;TZID=America/Chicago:20220624T170000
DTSTAMP:20260420T064940
CREATED:20220311T185426Z
LAST-MODIFIED:20220520T133827Z
UID:10000148-1655715600-1656090000@www.kellyandersongroup.com
SUMMARY:Safety Trainer June 20th Neosho
DESCRIPTION:
URL:https://www.kellyandersongroup.com/event/safety-trainer-june-20th-trainers-neosho/
LOCATION:Neosho Office 2355 Lusk Dr\, Neosho MO 64850\, 2355 Lusk Dr\, Neosho\, MO\, 64850\, United States
CATEGORIES:Trainers
ORGANIZER;CN="Denice Woods":MAILTO:denice@kellyandersongroup.com
GEO:36.84582;-94.39167
X-APPLE-STRUCTURED-LOCATION;VALUE=URI;X-ADDRESS=Neosho Office 2355 Lusk Dr Neosho MO 64850 2355 Lusk Dr Neosho MO 64850 United States;X-APPLE-RADIUS=500;X-TITLE=2355 Lusk Dr:geo:-94.39167,36.84582
END:VEVENT
BEGIN:VEVENT
DTSTART;TZID=America/Chicago:20220627T090000
DTEND;TZID=America/Chicago:20220701T170000
DTSTAMP:20260420T064940
CREATED:20220311T185426Z
LAST-MODIFIED:20220520T133743Z
UID:10000149-1656320400-1656694800@www.kellyandersongroup.com
SUMMARY:Safety Trainer June 27th Neosho
DESCRIPTION:
URL:https://www.kellyandersongroup.com/event/safety-trainer-june-27th-trainers-neosho/
LOCATION:Neosho Office 2355 Lusk Dr\, Neosho MO 64850\, 2355 Lusk Dr\, Neosho\, MO\, 64850\, United States
CATEGORIES:Trainers
ORGANIZER;CN="Denice Woods":MAILTO:denice@kellyandersongroup.com
GEO:36.84582;-94.39167
X-APPLE-STRUCTURED-LOCATION;VALUE=URI;X-ADDRESS=Neosho Office 2355 Lusk Dr Neosho MO 64850 2355 Lusk Dr Neosho MO 64850 United States;X-APPLE-RADIUS=500;X-TITLE=2355 Lusk Dr:geo:-94.39167,36.84582
END:VEVENT
END:VCALENDAR